BEGIN:VCALENDAR
VERSION:2.0
PRODID:-//ChamberMaster//Event Calendar 2.0//EN
METHOD:PUBLISH
X-PUBLISHED-TTL:P3D
REFRESH-INTERVAL:P3D
CALSCALE:GREGORIAN
BEGIN:VEVENT
DTSTART:20211013T133000Z
DTEND:20211013T193000Z
X-MICROSOFT-CDO-ALLDAYEVENT:FALSE
SUMMARY:West Kentucky Workforce Exploration Expo
DESCRIPTION:Exploration Expo: opportunities beyond graduation. Join us at the Hopkins County Career and Tech Center to learn more.
X-ALT-DESC;FMTTYPE=text/html:Exploration Expo: opportunities beyond graduation. Join us at the Hopkins County Career and Tech Center to learn more.
LOCATION:Hopkins County Career and Tech Center 1775 Cs-1038\, Madisonville\, KY 42431
UID:e.1578.5269
SEQUENCE:3
DTSTAMP:20260424T055054Z
URL:https://business.hopkinscochamber.com/events/details/west-kentucky-workforce-exploration-expo-5269
END:VEVENT

END:VCALENDAR
