BEGIN:VCALENDAR
VERSION:2.0
PRODID:-//ChamberMaster//Event Calendar 2.0//EN
METHOD:PUBLISH
X-PUBLISHED-TTL:P3D
REFRESH-INTERVAL:P3D
CALSCALE:GREGORIAN
BEGIN:VEVENT
DTSTART:20250213T230000Z
DTEND:20250214T010000Z
X-MICROSOFT-CDO-ALLDAYEVENT:FALSE
SUMMARY:West Kentucky Thank You Night
DESCRIPTION:The purpose of this event is to express our appreciation to the administration and House and Senate members for past\, present\, and future support for West Kentucky's projects and programs and to spotlight our region. More than 250 community and business leaders attend this event\, including members of the  General Assembly\, Cabinet officials and other dignitaries.  \n\nThe event is hosted by the West Kentucky Regional Chamber Alliance (WKRCA) and the Chamber Leadership Initiatives for Northwest Kentucky (C-LINK) that represent Chambers of Commerce in Western Kentucky. The counties represented include Ballard\, Breckinridge\, Caldwell\, Calloway\, Carlisle\, Christian\, Crittenden\, Daviess\, Fulton\, Graves\, Hancock\, Henderson\, Hickman\, Hopkins\, Livingston\, Lyon\, Marshall\, McCracken\, McLean\, Muhlenberg\, Ohio\, Trigg\, Union and Webster.
X-ALT-DESC;FMTTYPE=text/html:<p style="line-height: 1.8em\; color: rgb(54\, 66\, 74)\; font-family: &quot\;Open Sans&quot\;\, sans-serif\; font-size: 14px\; background-color: rgb(255\, 255\, 255)\;">The purpose of this event is to express our appreciation to the administration and House and Senate members for past\, present\, and future support for West Kentucky&rsquo\;s projects and programs and to spotlight our region. More than 250 community and business leaders attend this event\, including members of the &nbsp\;General Assembly\, Cabinet officials and other dignitaries. &nbsp\;</p>\n\n<p style="line-height: 1.8em\; color: rgb(54\, 66\, 74)\; font-family: &quot\;Open Sans&quot\;\, sans-serif\; font-size: 14px\; background-color: rgb(255\, 255\, 255)\;">The event is hosted by the West Kentucky Regional Chamber Alliance (WKRCA) and the Chamber Leadership Initiatives for Northwest Kentucky (C-LINK) that represent Chambers of Commerce in Western Kentucky. The counties represented include Ballard\, Breckinridge\, Caldwell\, Calloway\, Carlisle\, Christian\, Crittenden\, Daviess\, Fulton\, Graves\, Hancock\, Henderson\, Hickman\, Hopkins\, Livingston\, Lyon\, Marshall\, McCracken\, McLean\, Muhlenberg\, Ohio\, Trigg\, Union and Webster.</p>\n
LOCATION:Frankfort Country Club 101 Duntreath St. Frankfort KY
UID:e.1578.6026
SEQUENCE:3
DTSTAMP:20260419T233425Z
URL:https://business.hopkinscochamber.com/events/details/west-kentucky-thank-you-night-6026
END:VEVENT

END:VCALENDAR
