BEGIN:VCALENDAR
VERSION:2.0
PRODID:-//ChamberMaster//Event Calendar 2.0//EN
METHOD:PUBLISH
X-PUBLISHED-TTL:P3D
REFRESH-INTERVAL:P3D
CALSCALE:GREGORIAN
BEGIN:VEVENT
DTSTART:20220708T150000Z
DTEND:20220708T151000Z
X-MICROSOFT-CDO-ALLDAYEVENT:FALSE
SUMMARY:Weekly Show Ten @ 10 with Dr. Michael Ramage
DESCRIPTION:Tune in LIVE with Dr. Michael Ramage for weekly Cyber Security Tips for 10 minutes at 10 AM every Friday! This event will be live-streamed on CIT at Murray State\, GroWestKY\, and Technology Council of West Kentucky Facebook pages.\n\nWe will be answering questions like...\n\n"What makes a good password?"\n\n"What is ransomware?"\n\n"What is solarwinds?"\n\n"What does a cyber attack mean to my small business?"
X-ALT-DESC;FMTTYPE=text/html:Tune in LIVE with Dr. Michael Ramage for weekly Cyber Security Tips for 10 minutes at 10 AM every Friday! This event will be live-streamed on CIT at Murray State\, GroWestKY\, and Technology Council of West Kentucky Facebook pages.<br />\nWe will be answering questions like...<br />\n&quot\;What makes a good password?&quot\;<br />\n&quot\;What is ransomware?&quot\;<br />\n&quot\;What is solarwinds?&quot\;<br />\n&quot\;What does a cyber attack mean to my small business?&quot\;
LOCATION:Facebook Live https://www.facebook.com/growestky
UID:e.1578.5710
SEQUENCE:3
DTSTAMP:20260423T182941Z
URL:https://business.hopkinscochamber.com/events/details/weekly-show-ten-10-with-dr-michael-ramage-07-08-2022-5710
END:VEVENT

END:VCALENDAR
