BEGIN:VCALENDAR
VERSION:2.0
PRODID:-//ChamberMaster//Event Calendar 2.0//EN
METHOD:PUBLISH
X-PUBLISHED-TTL:P3D
REFRESH-INTERVAL:P3D
CALSCALE:GREGORIAN
BEGIN:VEVENT
DTSTART:20230823T140000Z
DTEND:20230823T203000Z
X-MICROSOFT-CDO-ALLDAYEVENT:FALSE
SUMMARY:Walgreens District Meeting
DESCRIPTION:Store Managers coming together to complete their District Calibration.
X-ALT-DESC;FMTTYPE=text/html:Store Managers coming together to complete their District Calibration.&nbsp\;
LOCATION:Large Conference Room - estimated number of attendees is 15.
UID:e.1578.5958
SEQUENCE:3
DTSTAMP:20260423T022030Z
URL:https://business.hopkinscochamber.com/events/details/walgreens-district-meeting-08-23-2023-5958
END:VEVENT

END:VCALENDAR
