BEGIN:VCALENDAR
VERSION:2.0
PRODID:-//ChamberMaster//Event Calendar 2.0//EN
METHOD:PUBLISH
X-PUBLISHED-TTL:P3D
REFRESH-INTERVAL:P3D
CALSCALE:GREGORIAN
BEGIN:VEVENT
DTSTART:20240410T150000Z
DTEND:20240410T190000Z
X-MICROSOFT-CDO-ALLDAYEVENT:FALSE
SUMMARY:Volunteer & Community Agency Luncheon
DESCRIPTION:We are looking for people who have a dedication to their community! If your agency needs volunteers\, then this is for you! Please join us to learn how you can get more volunteers and exposure for your agency.
X-ALT-DESC;FMTTYPE=text/html:We are looking for people who have a dedication to their community! If your agency needs volunteers\, then this is for you! Please join us to learn how you can get more volunteers and exposure for your agency.&nbsp\;
LOCATION:Mahr Park Event Barn A
UID:e.1578.5991
SEQUENCE:3
DTSTAMP:20260422T124521Z
URL:https://business.hopkinscochamber.com/events/details/volunteer-community-agency-luncheon-5991
END:VEVENT

END:VCALENDAR
