BEGIN:VCALENDAR
VERSION:2.0
PRODID:-//ChamberMaster//Event Calendar 2.0//EN
METHOD:PUBLISH
X-PUBLISHED-TTL:P3D
REFRESH-INTERVAL:P3D
CALSCALE:GREGORIAN
BEGIN:VEVENT
DTSTART:20210620T190000Z
DTEND:20210626T160000Z
X-MICROSOFT-CDO-ALLDAYEVENT:FALSE
SUMMARY:Vocal Arts Camp
DESCRIPTION:This week-long camp will immerse you in the vocal arts\, encourage\, and educate in musicianship and healthy vocal production. Experience voice instruction\, acting and movement workshops\, and music literacy classes. Campers will perform a mixture of solo\, chamber\, and choral music on the final day of the program. No previous vocal training is required. Commuter and overnight options. Scholarships available.
X-ALT-DESC;FMTTYPE=text/html:This week-long camp will immerse you in the vocal arts\, encourage\, and educate in musicianship and healthy vocal production. Experience voice instruction\, acting and movement workshops\, and music literacy classes. Campers will perform a mixture of solo\, chamber\, and choral music on the final day of the program. No previous vocal training is required. Commuter and overnight options. Scholarships available.
LOCATION:Murray State University
UID:e.1578.4751
SEQUENCE:3
DTSTAMP:20260424T103536Z
URL:https://business.hopkinscochamber.com/events/details/vocal-arts-camp-4751
END:VEVENT

END:VCALENDAR
