BEGIN:VCALENDAR
VERSION:2.0
PRODID:-//ChamberMaster//Event Calendar 2.0//EN
METHOD:PUBLISH
X-PUBLISHED-TTL:P3D
REFRESH-INTERVAL:P3D
CALSCALE:GREGORIAN
BEGIN:VEVENT
DTSTART:20210928T170000Z
DTEND:20210928T180000Z
X-MICROSOFT-CDO-ALLDAYEVENT:FALSE
SUMMARY:Virtual Let's Do Lunch & Learn - Hiring\, Firing\, and everything in between
DESCRIPTION:Hiring\, Firing\, and everything in between\; a small business seminar. This event will be hosted by guest speakers Crystal Balentine and Sonia Osman.
X-ALT-DESC;FMTTYPE=text/html:Hiring\, Firing\, and everything in between\; a small business seminar. This event will be hosted by guest speakers Crystal Balentine and Sonia Osman.&nbsp\;
LOCATION:This is a virtual meeting via Zoom.
UID:e.1578.5265
SEQUENCE:3
DTSTAMP:20260424T065930Z
URL:https://business.hopkinscochamber.com/events/details/virtual-let-s-do-lunch-learn-hiring-firing-and-everything-in-between-5265
END:VEVENT

END:VCALENDAR
