BEGIN:VCALENDAR
VERSION:2.0
PRODID:-//ChamberMaster//Event Calendar 2.0//EN
METHOD:PUBLISH
X-PUBLISHED-TTL:P3D
REFRESH-INTERVAL:P3D
CALSCALE:GREGORIAN
BEGIN:VEVENT
DTSTART:20250509T180000Z
DTEND:20250509T193000Z
X-MICROSOFT-CDO-ALLDAYEVENT:FALSE
SUMMARY:Using AI For Your Business
DESCRIPTION:Join us to learn how to use AI in your business!
X-ALT-DESC;FMTTYPE=text/html:Join us to learn how to use AI in your business!&nbsp\;
LOCATION:Chamber of Commerce Office 15 E Center St Madisonville\, KY 42431
UID:e.1578.6036
SEQUENCE:3
DTSTAMP:20260419T172314Z
URL:https://business.hopkinscochamber.com/events/details/using-ai-for-your-business-6036
END:VEVENT

END:VCALENDAR
