BEGIN:VCALENDAR
VERSION:2.0
PRODID:-//ChamberMaster//Event Calendar 2.0//EN
METHOD:PUBLISH
X-PUBLISHED-TTL:P3D
REFRESH-INTERVAL:P3D
CALSCALE:GREGORIAN
BEGIN:VEVENT
DTSTART:20210811T150000Z
DTEND:20210811T160000Z
X-MICROSOFT-CDO-ALLDAYEVENT:FALSE
SUMMARY:US 41 Improvement Project Meeting
DESCRIPTION:The Kentucky Transportation Cabinet has recently embarked upon a project to improve traffic flow\, increase capacity\, improve safety for motorists and pedestrians\, and enhance the efficiency and connectivity of US 41 between Hospital Drive and KY 281 / US 41A. Chamber Members are invited to meet with Renee Boucherie\, PE\, KYTC Project Manager.
X-ALT-DESC;FMTTYPE=text/html:<span style="font-family:lucida sans\,sans-serif\;"><span style="font-size:12.0pt\;">The Kentucky Transportation Cabinet has recently embarked upon a project to improve traffic flow\, increase capacity\, improve safety for motorists and pedestrians\, and enhance the efficiency and connectivity of US 41 between Hospital Drive and KY 281 / US 41A. Chamber Members are invited to meet with Renee Boucherie\, PE\, KYTC Project Manager.</span></span>&nbsp\;<br />\n<br />\n<br />\n&nbsp\;
LOCATION:This meeting will take place at the Hopkins County Regional Chamber of Commerce\, at 15 East Center Street in Madisonville KY.
UID:e.1578.5207
SEQUENCE:3
DTSTAMP:20260424T092106Z
URL:https://business.hopkinscochamber.com/events/details/us-41-improvement-project-meeting-5207
END:VEVENT

END:VCALENDAR
