BEGIN:VCALENDAR
VERSION:2.0
PRODID:-//ChamberMaster//Event Calendar 2.0//EN
METHOD:PUBLISH
X-PUBLISHED-TTL:P3D
REFRESH-INTERVAL:P3D
CALSCALE:GREGORIAN
BEGIN:VEVENT
DTSTART:20210917T170000Z
DTEND:20210918T000000Z
X-MICROSOFT-CDO-ALLDAYEVENT:FALSE
SUMMARY:United Way of the Coalfield Golf Scramble
DESCRIPTION:Swing Away for United Way! Join us on Friday\, September 17 at Lakeshore Country Club in the Caddyshack 4 Person Scramble. $100 per player   includes lunch. Prizes! Noon tee-time. To register for the event or for sponsorship information\, contact Dee at 270-821-3170.
X-ALT-DESC;FMTTYPE=text/html:<span style="font-family: Roboto\; font-size: 16px\;">Swing Away for United Way! Join us on Friday\, September 17 at Lakeshore Country Club in the Caddyshack 4 Person Scramble. $100 per player &ndash\; includes lunch. Prizes! Noon tee-time. To register for the event or for sponsorship information\, contact Dee at 270-821-3170.</span>
LOCATION:This event will be held at 1000 Shamrock Drive\, which is the Lakeshore Country Club in Madisonville KY.
UID:e.1578.5202
SEQUENCE:3
DTSTAMP:20260424T070021Z
URL:https://business.hopkinscochamber.com/events/details/united-way-of-the-coalfield-golf-scramble-5202
END:VEVENT

END:VCALENDAR
