BEGIN:VCALENDAR
VERSION:2.0
PRODID:-//ChamberMaster//Event Calendar 2.0//EN
METHOD:PUBLISH
X-PUBLISHED-TTL:P3D
REFRESH-INTERVAL:P3D
CALSCALE:GREGORIAN
BEGIN:VEVENT
DTSTART:20211031T200000Z
DTEND:20211101T000000Z
X-MICROSOFT-CDO-ALLDAYEVENT:FALSE
SUMMARY:Trick or Treating
DESCRIPTION:City of Madisonville's official trick or treating time.
X-ALT-DESC;FMTTYPE=text/html:City of Madisonville&#39\;s official trick or treating time.&nbsp\;
LOCATION:
UID:e.1578.5287
SEQUENCE:3
DTSTAMP:20260424T065709Z
URL:https://business.hopkinscochamber.com/events/details/trick-or-treating-5287
END:VEVENT

END:VCALENDAR
