BEGIN:VCALENDAR
VERSION:2.0
PRODID:-//ChamberMaster//Event Calendar 2.0//EN
METHOD:PUBLISH
X-PUBLISHED-TTL:P3D
REFRESH-INTERVAL:P3D
CALSCALE:GREGORIAN
BEGIN:VEVENT
DTSTART:20220225T150000Z
DTEND:20220226T050000Z
X-MICROSOFT-CDO-ALLDAYEVENT:FALSE
SUMMARY:TikTok for Small Businesses with Kim Simons
DESCRIPTION:Learn how to leverage TikTok to promote your business. The class will be taught by Kim Simons.
X-ALT-DESC;FMTTYPE=text/html:Learn how to leverage TikTok to promote your business. The class will be taught by Kim Simons.
LOCATION:Hopkins County Regional Chamber of Commerce 15 E. Center St. Madisonville\, KY 42431
UID:e.1578.5328
SEQUENCE:3
DTSTAMP:20260424T010047Z
URL:https://business.hopkinscochamber.com/events/details/tiktok-for-small-businesses-with-kim-simons-5328
END:VEVENT

END:VCALENDAR
