BEGIN:VCALENDAR
VERSION:2.0
PRODID:-//ChamberMaster//Event Calendar 2.0//EN
METHOD:PUBLISH
X-PUBLISHED-TTL:P3D
REFRESH-INTERVAL:P3D
CALSCALE:GREGORIAN
BEGIN:VEVENT
DTSTART:20210707T170000Z
DTEND:20210707T180000Z
X-MICROSOFT-CDO-ALLDAYEVENT:FALSE
SUMMARY:The Ins & Outs of Credit Card Processing Small Business Workshop
DESCRIPTION:Small Business Workshop - Credit Card Ins & Outs Lunch & Learn\n\nSponsored by Payroll Vault\n\nLunch will be provided by Payroll Vault
X-ALT-DESC;FMTTYPE=text/html:Small Business Workshop - Credit Card Ins &amp\; Outs Lunch &amp\; Learn<br />\nSponsored by Payroll Vault<br />\nLunch will be provided by Payroll Vault
LOCATION:Hopkins County Regional Chamber of Commerce
UID:e.1578.5184
SEQUENCE:3
DTSTAMP:20260424T093116Z
URL:https://business.hopkinscochamber.com/events/details/the-ins-outs-of-credit-card-processing-small-business-workshop-5184
END:VEVENT

END:VCALENDAR
