BEGIN:VCALENDAR
VERSION:2.0
PRODID:-//ChamberMaster//Event Calendar 2.0//EN
METHOD:PUBLISH
X-PUBLISHED-TTL:P3D
REFRESH-INTERVAL:P3D
CALSCALE:GREGORIAN
BEGIN:VEVENT
DTSTART:20210924T230000Z
DTEND:20210925T020000Z
X-MICROSOFT-CDO-ALLDAYEVENT:FALSE
SUMMARY:The African American Coalition of Hopkins County Semi-Formal
DESCRIPTION:Meet and Greet - 5 p.m. - 6 p.m.
X-ALT-DESC;FMTTYPE=text/html:Meet and Greet - 5 p.m. - 6 p.m.<br />\n&nbsp\;
LOCATION:Ballard Center\, Madisonville
UID:e.1578.5194
SEQUENCE:3
DTSTAMP:20260424T070213Z
URL:https://business.hopkinscochamber.com/events/details/the-african-american-coalition-of-hopkins-county-semi-formal-5194
END:VEVENT

END:VCALENDAR
