BEGIN:VCALENDAR
VERSION:2.0
PRODID:-//ChamberMaster//Event Calendar 2.0//EN
METHOD:PUBLISH
X-PUBLISHED-TTL:P3D
REFRESH-INTERVAL:P3D
CALSCALE:GREGORIAN
BEGIN:VEVENT
DTSTART:20240926T223000Z
DTEND:20240927T003000Z
X-MICROSOFT-CDO-ALLDAYEVENT:FALSE
SUMMARY:Sweet Feet
DESCRIPTION:Hopkins County Happy Feet presents Sweet Feet! This event benefits the students in Hopkins County. \n\nHosted by Wayne Hart.\n\nSilent auction\, music with Tim Davis\, - LTD Sound\, dinner by Catering & Creations\, bourbon tasting\, wine from Purple Toad Winery\, Tradewater Brewery\, signature cocktails\, and more!
X-ALT-DESC;FMTTYPE=text/html:Hopkins County Happy Feet presents Sweet Feet! This event benefits the students in Hopkins County.&nbsp\;<br />\nHosted by Wayne Hart.<br />\nSilent auction\, music with Tim Davis\, - LTD Sound\, dinner by Catering &amp\; Creations\, bourbon tasting\, wine from Purple Toad Winery\, Tradewater Brewery\, signature cocktails\, and more!&nbsp\;
LOCATION:Mahr Park Event Barn B
UID:e.1578.6004
SEQUENCE:3
DTSTAMP:20260420T060633Z
URL:https://business.hopkinscochamber.com/events/details/sweet-feet-6004
END:VEVENT

END:VCALENDAR
