BEGIN:VCALENDAR
VERSION:2.0
PRODID:-//ChamberMaster//Event Calendar 2.0//EN
METHOD:PUBLISH
X-PUBLISHED-TTL:P3D
REFRESH-INTERVAL:P3D
CALSCALE:GREGORIAN
BEGIN:VEVENT
DTSTART:20220303T133000Z
DTEND:20220303T150000Z
X-MICROSOFT-CDO-ALLDAYEVENT:FALSE
SUMMARY:State of the Cities and County Presented by First United Bank & Trust
DESCRIPTION:The Chamber's Annual State of the Cities and County event is one of our most anticipated political events each year. This event gives the highest elected officials of our county and our nine incorporated cities a platform to present to citizens the progress of\, and challenges faced by\, our communities. This is an opportunity to hear directly from the leaders on the front lines of local decision-making that directly impacts your businesses and your families.\n\n\n\n2022 State of the Cities and County\n\nThursday\, March 3\, 2022\n\n7:30 AM-9:00 AM\n\nThe Ballard Center\, Madisonville\n\n \n\nTicket Information    \n\nSpeaker Line-Up:\n\n	Jack Whitfield\, Judge Executive\n	Kevin Cotton\, Mayor\, Madisonville \n	Panel Discussion led by Jason Vincent\, Executive Director\, Pennyrile Area Development District
X-ALT-DESC;FMTTYPE=text/html:<span style="font-size:16px\;"><span style="font-family:arial\;">The Chamber&rsquo\;s Annual State of the Cities and County event is one of our most anticipated political events each year. This event gives the highest elected officials of our county and our nine incorporated cities a platform to present to citizens the progress of\, and challenges faced by\, our communities. This is an opportunity to hear directly from the leaders on the front lines of local decision-making that directly impacts your businesses and your families.<br />\n<br />\n<strong>2022 State of the Cities and County</strong><br />\n<span style="color:#0E101A\;">Thursday\, March 3\, 2022<br />\n7:30 AM-9:00 AM<br />\nThe Ballard Center\, Madisonville</span><br />\n&nbsp\;<br />\n<strong><span style="color:#0E101A\;">Ticket Information </span></strong></span></span> <span style="font-size:16px\;"><span style="font-family:arial\;"> &nbsp\;<br />\n<strong><span style="color:#0E101A\;">Speaker Line-Up:</span></strong></span></span>\n<ul>\n	<li style="color:#0E101A\;"><span style="font-size:16px\;"><span style="font-family:arial\;">Jack Whitfield\,<em>&nbsp\;Judge Executive</em></span></span></li>\n	<li style="color:#0E101A\;"><span style="font-size:16px\;"><span style="font-family:arial\;">Kevin Cotton\, Mayor\,&nbsp\;<em>Madisonville&#8203\;</em></span></span></li>\n	<li style="color:#0E101A\;"><span style="font-size:16px\;"><span style="font-family:arial\;">Panel Discussion led by&nbsp\;Jason Vincent\,&nbsp\;Executive Director\,&nbsp\;Pennyrile Area Development District</span></span></li>\n</ul>\n&nbsp\;<br />\n&nbsp\;
LOCATION:The Ballard Center\, Madisonville 605 E. Arch St.
UID:e.1578.5648
SEQUENCE:3
DTSTAMP:20260423T233747Z
URL:https://business.hopkinscochamber.com/events/details/state-of-the-cities-and-county-presented-by-first-united-bank-trust-5648
END:VEVENT

END:VCALENDAR
