BEGIN:VCALENDAR
VERSION:2.0
PRODID:-//ChamberMaster//Event Calendar 2.0//EN
METHOD:PUBLISH
X-PUBLISHED-TTL:P3D
REFRESH-INTERVAL:P3D
CALSCALE:GREGORIAN
BEGIN:VEVENT
DTSTART:20210325T163000Z
DTEND:20210325T180000Z
X-MICROSOFT-CDO-ALLDAYEVENT:FALSE
SUMMARY:State of the Cities and County Presented by First United Bank & Trust
DESCRIPTION:2021 State of the Cities and County Luncheon\n\nThursday\, March 25\, 2021\n\n11:30am-1:00pm\n\nThe Ballard Center\, Madisonville\n\n \n\nTicket Information \n\n	Single Tickets - $20 per person\n	Reserved table of 4 people - $100 \n	Tickets may be reserved online at hopkinschamber.com or 270-821-3435 or president@hopkinschamber.com \n\n \n\nSpeaker Line-Up as of 3.11.21:\n\n\n	Jack Whitfield\, Judge Executive\n	Kevin Cotton\, Mayor\, Madisonville \n	Chris Phelps\, Mayor\, Mortons Gap\n	Ray Hagerman\, President\, Madisonville-Hopkins County EDC\n	State Representative Melinda Gibbons Prunty\n	Secretary of State Michael Adams\n\n \n\nSponsorship Information\n\n\n	Presenting Sponsor: $1\,500 (SOLD)\n\n	 \n	Video Broadcast Sponsor: (SOLD)\n\n	 \n	Community Advocate Sponsor: $1\,000 (Only one remains)\n	\n		Exclusive recognition as Community Advocate Sponsor:\n		Pre-event visibility (all promotions and announcements) \n		Logo on the printed event program \n		Logo on screen at the event \n		Special recognition from the podium during the luncheon \n		One reserved table for 4 people to attend the event \n	\n	\n\n\n\n	Engaged Citizen Sponsor: $500 (Only two remain)\n\n	\n		Recognition as an Engaged Citizen Sponsor \n		Pre-event visibility (all promotions and announcements) \n		Logo on the printed event program\n		Logo on screen at the event\n		Two reservations to attend the event\n		Prime seating at the event \n	\n	\n\n\n\n	Citizen Sponsor: $150\n\n	\n		Recognition as a Citizen Sponsor \n		Name on the event program\n		Company name on all State of the Cities and County event pages
X-ALT-DESC;FMTTYPE=text/html:<span style="font-size:14px\;"><span style="font-family:arial\;"><span style="font-size:16px\;"><strong>2021 State of the Cities and County Luncheon</strong></span><br />\n<span style="color:#0E101A\;">Thursday\, March 25\, 2021<br />\n11:30am-1:00pm<br />\nThe Ballard Center\, Madisonville</span><br />\n&nbsp\;<br />\n<strong><span style="color:#0E101A\;">Ticket Information </span></strong></span></span>\n<ul>\n	<li><span style="font-size:14px\;"><span style="font-family:arial\;"><span style="color:#0E101A\;">Single Tickets - $20 per person</span></span></span></li>\n	<li><span style="font-size:14px\;"><span style="font-family:arial\;"><span style="color:#0E101A\;">Reserved table of 4 people - $100 </span></span></span></li>\n	<li><span style="font-size:14px\;"><span style="font-family:arial\;"><span style="color:#0E101A\;">Tickets may be reserved online at <strong><a href="https://business.hopkinschamber.com/events/details/state-of-the-cities-and-county-presented-by-first-united-bank-trust-4513">hopkinschamber.com</a></strong> or 270-821-3435 or <a href="mailto:president@hopkinschamber.com">president@hopkinschamber.com</a> </span></span></span></li>\n</ul>\n<span style="font-size:14px\;"><span style="font-family:arial\;">&nbsp\;<br />\n<strong><span style="color:#0E101A\;">Speaker Line-Up as of 3.11.21:</span></strong></span></span>\n\n<ul>\n	<li style="color:#0E101A\;">Jack Whitfield\,<em>&nbsp\;Judge Executive</em></li>\n	<li style="color:#0E101A\;">Kevin Cotton\, Mayor\,&nbsp\;<em>Madisonville&#8203\;</em></li>\n	<li style="color:#0E101A\;">Chris Phelps\, Mayor\,&nbsp\;<em>Mortons Gap</em></li>\n	<li style="color:#0E101A\;">Ray Hagerman\, President\,&nbsp\;<em>Madisonville-Hopkins County EDC</em></li>\n	<li style="color:#0E101A\;">State Representative Melinda Gibbons Prunty</li>\n	<li style="color:#0E101A\;">Secretary of State Michael Adams</li>\n</ul>\n<span style="font-size:14px\;"><span style="font-family:arial\;">&nbsp\;<br />\n<strong>Sponsorship Information</strong></span></span>\n\n<ul>\n	<li><span style="font-size:14px\;"><span style="font-family:arial\;"><span style="color:#2F5496\;">Presenting Sponsor: $1\,500 (SOLD)<a name="_Hlk62635901"></a></span></span></span><br />\n	&nbsp\;</li>\n	<li><span style="font-size:14px\;"><span style="font-family:arial\;"><span style="color:#2F5496\;">Video Broadcast Sponsor: (SOLD)</span></span></span><br />\n	&nbsp\;</li>\n	<li><span style="font-size:14px\;"><span style="font-family:arial\;"><span style="color:#2F5496\;">Community Advocate Sponsor: $1\,000 </span><em><span style="color:gray\;">(Only one remains)</span></em></span></span>\n	<ul>\n		<li><span style="font-size:14px\;"><span style="font-family:arial\;"><em><span style="color:gray\;"><span style="font-size:14px\;"><span style="font-family:arial\;">Exclusive recognition as </span></span></span></em></span></span><span style="color: rgb(47\, 84\, 150)\; font-family: arial\; font-size: 14px\; background-color: rgb(255\, 255\, 255)\;">Community Advocate Sponsor:</span></li>\n		<li><span style="font-size:14px\;"><span style="font-family:arial\;"><em><span style="color:gray\;"><span style="font-size:14px\;"><span style="font-family:arial\;"><span style="font-size:14px\;"><span style="font-family:arial\;">Pre-event visibility (all promotions and announcements)&nbsp\;</span></span></span></span></span></em></span></span></li>\n		<li><span style="font-size:14px\;"><span style="font-family:arial\;"><em><span style="color:gray\;"><span style="font-size:14px\;"><span style="font-family:arial\;"><span style="font-size:14px\;"><span style="font-family:arial\;"><span style="font-size:14px\;"><span style="font-family:arial\;">Logo on the printed event program </span></span></span></span></span></span></span></em></span></span></li>\n		<li><span style="font-size:14px\;"><span style="font-family:arial\;"><em><span style="color:gray\;"><span style="font-size:14px\;"><span style="font-family:arial\;"><span style="font-size:14px\;"><span style="font-family:arial\;"><span style="font-size:14px\;"><span style="font-family:arial\;"><span style="font-size:14px\;"><span style="font-family:arial\;">Logo on screen at the event </span></span></span></span></span></span></span></span></span></em></span></span></li>\n		<li><span style="font-size:14px\;"><span style="font-family:arial\;"><em><span style="color:gray\;"><span style="font-size:14px\;"><span style="font-family:arial\;"><span style="font-size:14px\;"><span style="font-family:arial\;"><span style="font-size:14px\;"><span style="font-family:arial\;"><span style="font-size:14px\;"><span style="font-family:arial\;"><span style="font-size:14px\;"><span style="font-family:arial\;">Special recognition from the podium during the luncheon </span></span></span></span></span></span></span></span></span></span></span></em></span></span></li>\n		<li><span style="font-size:14px\;"><span style="font-family:arial\;"><em><span style="color:gray\;"><span style="font-size:14px\;"><span style="font-family:arial\;"><span style="font-size:14px\;"><span style="font-family:arial\;"><span style="font-size:14px\;"><span style="font-family:arial\;"><span style="font-size:14px\;"><span style="font-family:arial\;"><span style="font-size:14px\;"><span style="font-family:arial\;"><span style="font-size:14px\;"><span style="font-family:arial\;">One reserved table for 4 people to attend the event </span></span></span></span></span></span></span></span></span></span></span></span></span></em></span></span></li>\n	</ul>\n	</li>\n</ul>\n\n<ul>\n	<li><span style="font-size:14px\;"><span style="font-family:arial\;"><span style="color:#2F5496\;">Engaged Citizen Sponsor: $500 </span><em><span style="color:gray\;">(Only two remain)</span></em></span></span>\n\n	<ul style="list-style-type:circle\;">\n		<li><span style="font-size:14px\;"><span style="font-family:arial\;">Recognition as an Engaged Citizen Sponsor </span></span></li>\n		<li><span style="font-size:14px\;"><span style="font-family:arial\;"><span style="font-size:14px\;"><span style="font-family:arial\;">Pre-event visibility (all promotions and announcements)&nbsp\;</span></span></span></span></li>\n		<li><span style="font-size:14px\;"><span style="font-family:arial\;"><span style="font-size:14px\;"><span style="font-family:arial\;"><span style="font-size:14px\;"><span style="font-family:arial\;">Logo on the printed event program</span></span></span></span></span></span></li>\n		<li><span style="font-size:14px\;"><span style="font-family:arial\;"><span style="font-size:14px\;"><span style="font-family:arial\;"><span style="font-size:14px\;"><span style="font-family:arial\;"><span style="font-size:14px\;"><span style="font-family:arial\;">Logo on screen at the event</span></span></span></span></span></span></span></span></li>\n		<li><span style="font-size:14px\;"><span style="font-family:arial\;"><span style="font-size:14px\;"><span style="font-family:arial\;"><span style="font-size:14px\;"><span style="font-family:arial\;"><span style="font-size:14px\;"><span style="font-family:arial\;"><span style="font-size:14px\;"><span style="font-family:arial\;"><span style="font-size:14px\;"><span style="font-family:arial\;">Two reservations to attend the event</span></span></span></span></span></span></span></span></span></span></span></span></li>\n		<li><span style="font-size:14px\;"><span style="font-family:arial\;"><span style="font-size:14px\;"><span style="font-family:arial\;"><span style="font-size:14px\;"><span style="font-family:arial\;"><span style="font-size:14px\;"><span style="font-family:arial\;"><span style="font-size:14px\;"><span style="font-family:arial\;"><span style="font-size:14px\;"><span style="font-family:arial\;"><span style="font-size:14px\;"><span style="font-family:arial\;"><span style="font-size:14px\;"><span style="font-family:arial\;"><span style="font-size:14px\;"><span style="font-family:arial\;">Prime seating at the event </span></span></span></span></span></span></span></span></span></span></span></span></span></span></span></span></span></span></li>\n	</ul>\n	</li>\n</ul>\n\n<ul>\n	<li><span style="font-size:14px\;"><span style="font-family:arial\;"><span style="color:#2F5496\;">Citizen Sponsor: $150</span></span></span>\n\n	<ul>\n		<li><span style="font-size:14px\;"><span style="font-family:arial\;"><span style="color:#2F5496\;"><span style="font-size:14px\;"><span style="font-family:arial\;">Recognition as a Citizen Sponsor </span></span></span></span></span></li>\n		<li><span style="font-size:14px\;"><span style="font-family:arial\;"><span style="color:#2F5496\;"><span style="font-size:14px\;"><span style="font-family:arial\;"><span style="font-size:14px\;"><span style="font-family:arial\;">Name on the event program</span></span></span></span></span></span></span></li>\n		<li><span style="font-size:14px\;"><span style="font-family:arial\;"><span style="color:#2F5496\;"><span style="font-size:14px\;"><span style="font-family:arial\;"><span style="font-size:14px\;"><span style="font-family:arial\;"><span style="font-size:14px\;"><span style="font-family:arial\;">Company name on all State of the Cities and County event pages</span></span></span></span></span></span></span></span></span></li>\n	</ul>\n	</li>\n</ul>\n
LOCATION:The Ballard Center\, Madisonville
UID:e.1578.4513
SEQUENCE:3
DTSTAMP:20260424T160412Z
URL:https://business.hopkinscochamber.com/events/details/state-of-the-cities-and-county-presented-by-first-united-bank-trust-4513
END:VEVENT

END:VCALENDAR
