BEGIN:VCALENDAR
VERSION:2.0
PRODID:-//ChamberMaster//Event Calendar 2.0//EN
METHOD:PUBLISH
X-PUBLISHED-TTL:P3D
REFRESH-INTERVAL:P3D
CALSCALE:GREGORIAN
BEGIN:VEVENT
DTSTART:20230817T163000Z
DTEND:20230817T170000Z
X-MICROSOFT-CDO-ALLDAYEVENT:FALSE
SUMMARY:State of Healthcare
DESCRIPTION:Join us to hear Mark Marsh\, President & CEO\, from Owensboro Health\, Julie Miller\, Sales and Marketing from BluMine Health and keynote speaker Alisa Coleman\, President\, from Baptist Health Deaconess Madisonville\, give us updates on healthcare in our region.
X-ALT-DESC;FMTTYPE=text/html:Join us to hear Mark Marsh\, President &amp\; CEO\, from Owensboro Health\, Julie Miller\, Sales and Marketing from BluMine Health and keynote speaker Alisa Coleman\, President\, from Baptist Health Deaconess Madisonville\, give us updates on healthcare in our region.&nbsp\;
LOCATION:8th Floor Tower Baptist Health Deaconess Madisonville
UID:e.1578.5948
SEQUENCE:3
DTSTAMP:20260423T023215Z
URL:https://business.hopkinscochamber.com/events/details/state-of-healthcare-5948
END:VEVENT

END:VCALENDAR
