BEGIN:VCALENDAR
VERSION:2.0
PRODID:-//ChamberMaster//Event Calendar 2.0//EN
METHOD:PUBLISH
X-PUBLISHED-TTL:P3D
REFRESH-INTERVAL:P3D
CALSCALE:GREGORIAN
BEGIN:VEVENT
DTSTART:20231019T163000Z
DTEND:20231019T180000Z
X-MICROSOFT-CDO-ALLDAYEVENT:FALSE
SUMMARY:State Of Education
DESCRIPTION:Join us to hear from Hopkins County Schools\, Madisonville Community College\, Murray State University and Dawson Springs Independent School District.\n\n\n\nSponsored by:\n\nHopkins County Schools\n\nMadisonville Community College\n\nMurray State University\n\nFirst United Bank & Trust
X-ALT-DESC;FMTTYPE=text/html:Join us to hear from Hopkins County Schools\, Madisonville Community College\, Murray State University and Dawson Springs Independent School District.<br />\n<br />\nSponsored by:<br />\nHopkins County Schools<br />\nMadisonville Community College<br />\nMurray State University<br />\nFirst United Bank &amp\; Trust
LOCATION:Steve Beshear Center for Postsecondary Education 2000 College Dr. Madisonville\, KY 42431
UID:e.1578.5949
SEQUENCE:3
DTSTAMP:20260422T234408Z
URL:https://business.hopkinscochamber.com/events/details/state-of-education-5949
END:VEVENT

END:VCALENDAR
