BEGIN:VCALENDAR
VERSION:2.0
PRODID:-//ChamberMaster//Event Calendar 2.0//EN
METHOD:PUBLISH
X-PUBLISHED-TTL:P3D
REFRESH-INTERVAL:P3D
CALSCALE:GREGORIAN
BEGIN:VEVENT
DTSTART:20240912T230000Z
DTEND:20240913T000000Z
X-MICROSOFT-CDO-ALLDAYEVENT:FALSE
SUMMARY:St. Charles City Commission
DESCRIPTION:
X-ALT-DESC;FMTTYPE=text/html:
LOCATION:
UID:e.1578.3621
SEQUENCE:3
DTSTAMP:20260420T060936Z
URL:https://business.hopkinscochamber.com/events/details/st-charles-city-commission-09-12-2024-3621
END:VEVENT

END:VCALENDAR
