BEGIN:VCALENDAR
VERSION:2.0
PRODID:-//ChamberMaster//Event Calendar 2.0//EN
METHOD:PUBLISH
X-PUBLISHED-TTL:P3D
REFRESH-INTERVAL:P3D
CALSCALE:GREGORIAN
BEGIN:VEVENT
DTSTART:20250508T230000Z
DTEND:20250509T000000Z
X-MICROSOFT-CDO-ALLDAYEVENT:FALSE
SUMMARY:St. Charles City Commission
DESCRIPTION:
X-ALT-DESC;FMTTYPE=text/html:
LOCATION:
UID:e.1578.3629
SEQUENCE:3
DTSTAMP:20260419T172626Z
URL:https://business.hopkinscochamber.com/events/details/st-charles-city-commission-05-08-2025-3629
END:VEVENT

END:VCALENDAR
