BEGIN:VCALENDAR
VERSION:2.0
PRODID:-//ChamberMaster//Event Calendar 2.0//EN
METHOD:PUBLISH
X-PUBLISHED-TTL:P3D
REFRESH-INTERVAL:P3D
CALSCALE:GREGORIAN
BEGIN:VEVENT
DTSTART:20250313T230000Z
DTEND:20250314T000000Z
X-MICROSOFT-CDO-ALLDAYEVENT:FALSE
SUMMARY:St. Charles City Commission
DESCRIPTION:
X-ALT-DESC;FMTTYPE=text/html:
LOCATION:
UID:e.1578.3627
SEQUENCE:3
DTSTAMP:20260419T204202Z
URL:https://business.hopkinscochamber.com/events/details/st-charles-city-commission-03-13-2025-3627
END:VEVENT

END:VCALENDAR
