BEGIN:VCALENDAR
VERSION:2.0
PRODID:-//ChamberMaster//Event Calendar 2.0//EN
METHOD:PUBLISH
X-PUBLISHED-TTL:P3D
REFRESH-INTERVAL:P3D
CALSCALE:GREGORIAN
BEGIN:VEVENT
DTSTART:20220506T110000Z
DTEND:20220506T190000Z
X-MICROSOFT-CDO-ALLDAYEVENT:FALSE
SUMMARY:Spring Pancake Day
DESCRIPTION:Join the Lions Club for Spring Pancake Day! They will be serving pancakes drive-thru only. All proceeds support their mission of providing eye care to those in need in our community.
X-ALT-DESC;FMTTYPE=text/html:Join the Lions Club for Spring Pancake Day! They will be serving pancakes drive-thru only. All proceeds support their mission of providing eye care to those in need in our community.&nbsp\;
LOCATION:505 Hospital Drive Madisonville KY 42431
UID:e.1578.5693
SEQUENCE:3
DTSTAMP:20260423T205749Z
URL:https://business.hopkinscochamber.com/events/details/spring-pancake-day-5693
END:VEVENT

END:VCALENDAR
