BEGIN:VCALENDAR
VERSION:2.0
PRODID:-//ChamberMaster//Event Calendar 2.0//EN
METHOD:PUBLISH
X-PUBLISHED-TTL:P3D
REFRESH-INTERVAL:P3D
CALSCALE:GREGORIAN
BEGIN:VEVENT
DTSTART:20250425T140000Z
DTEND:20250425T150000Z
X-MICROSOFT-CDO-ALLDAYEVENT:FALSE
SUMMARY:Small Business Roundtable
DESCRIPTION:Calling all small business owners to come for a chance to connect\, exchange idea's and learn more about the in's and out's here in Madisonville / Hopkins County!
X-ALT-DESC;FMTTYPE=text/html:Calling all small business owners to come for a chance to connect\, exchange idea&#39\;s and learn more about the in&#39\;s and out&#39\;s here in Madisonville / Hopkins County!
LOCATION:City Hall conference room 67 N Main St Madisonville KY
UID:e.1578.6030
SEQUENCE:3
DTSTAMP:20260419T185932Z
URL:https://business.hopkinscochamber.com/events/details/small-business-roundtable-6030
END:VEVENT

END:VCALENDAR
