BEGIN:VCALENDAR
VERSION:2.0
PRODID:-//ChamberMaster//Event Calendar 2.0//EN
METHOD:PUBLISH
X-PUBLISHED-TTL:P3D
REFRESH-INTERVAL:P3D
CALSCALE:GREGORIAN
BEGIN:VEVENT
DTSTART:20210909T220000Z
DTEND:20210910T010000Z
X-MICROSOFT-CDO-ALLDAYEVENT:FALSE
SUMMARY:Sippin' on Sugg
DESCRIPTION:If you like to shop\, join the Sugg St. merchants for #SippinOnSugg Thursday\, September 9th from 5-8pm in Downtown Madisonville. Like and follow these Sugg St. Merchant's pages on Facebook for more details: Endless Motion \, Aster & Ivy\, Falcon Creek Boutique\, A+M Monogram and 45-70! The following food vendors will be there as well: Acai On My Mind\, The Shack\, and Family Man's.
X-ALT-DESC;FMTTYPE=text/html:<span style="font-family: Roboto\; font-size: 16px\;">If you like to shop\, join the Sugg St. merchants for&nbsp\;</span><a class="oajrlxb2 g5ia77u1 qu0x051f esr5mh6w e9989ue4 r7d6kgcz rq0escxv nhd2j8a9 nc684nl6 p7hjln8o kvgmc6g5 cxmmr5t8 oygrvhab hcukyx3x jb3vyjys rz4wbd8a qt6c0cv9 a8nywdso i1ao9s8h esuyzwwr f1sip0of lzcic4wl q66pz984 gpro0wi8 b1v8xokw" href="https://www.facebook.com/hashtag/sippinonsugg?__eep__=6&amp\;__cft__[0]=AZX46mhqnf7WAw0xQRuL5811Qp4dZCjZw_X3CnqF3yLhJxAZgkDvpGgV7NqLfM_5gLzicn7S9VC_D63U3VoBTL6mtLjAnrQvRoS9Gwo8upUz7lUH76XDj9d-GtVuf7yy-6VHtYsXHFK442qAJhutN4uD&amp\;__tn__=*NK-R" role="link" style="text-decoration-line: none\; font-family: Roboto\; font-size: 16px\; background-attachment: unset !important\;" tabindex="0">#SippinOnSugg</a><span style="font-family: Roboto\; font-size: 16px\;">&nbsp\;Thursday\, September 9th from 5-8pm in Downtown Madisonville. Like and follow these Sugg St. Merchant&rsquo\;s pages on Facebook for more details:&nbsp\;</span><a class="oajrlxb2 g5ia77u1 qu0x051f esr5mh6w e9989ue4 r7d6kgcz rq0escxv nhd2j8a9 nc684nl6 p7hjln8o kvgmc6g5 cxmmr5t8 oygrvhab hcukyx3x jb3vyjys rz4wbd8a qt6c0cv9 a8nywdso i1ao9s8h esuyzwwr f1sip0of lzcic4wl q66pz984 gpro0wi8 b1v8xokw" href="https://www.facebook.com/Endless-Motion-112111804046672/?__cft__[0]=AZX46mhqnf7WAw0xQRuL5811Qp4dZCjZw_X3CnqF3yLhJxAZgkDvpGgV7NqLfM_5gLzicn7S9VC_D63U3VoBTL6mtLjAnrQvRoS9Gwo8upUz7lUH76XDj9d-GtVuf7yy-6VHtYsXHFK442qAJhutN4uD&amp\;__tn__=kK-R" role="link" style="text-decoration-line: none\; font-family: Roboto\; font-size: 16px\; background-attachment: unset !important\;" tabindex="0">Endless Motion</a><span style="font-family: Roboto\; font-size: 16px\;">&nbsp\;\,&nbsp\;</span><a class="oajrlxb2 g5ia77u1 qu0x051f esr5mh6w e9989ue4 r7d6kgcz rq0escxv nhd2j8a9 nc684nl6 p7hjln8o kvgmc6g5 cxmmr5t8 oygrvhab hcukyx3x jb3vyjys rz4wbd8a qt6c0cv9 a8nywdso i1ao9s8h esuyzwwr f1sip0of lzcic4wl q66pz984 gpro0wi8 b1v8xokw" href="https://www.facebook.com/asterandivyboutique/?__cft__[0]=AZX46mhqnf7WAw0xQRuL5811Qp4dZCjZw_X3CnqF3yLhJxAZgkDvpGgV7NqLfM_5gLzicn7S9VC_D63U3VoBTL6mtLjAnrQvRoS9Gwo8upUz7lUH76XDj9d-GtVuf7yy-6VHtYsXHFK442qAJhutN4uD&amp\;__tn__=kK-R" role="link" style="text-decoration-line: none\; font-family: Roboto\; font-size: 16px\; background-attachment: unset !important\;" tabindex="0">Aster &amp\; Ivy</a><span style="font-family: Roboto\; font-size: 16px\;">\,&nbsp\;</span><a class="oajrlxb2 g5ia77u1 qu0x051f esr5mh6w e9989ue4 r7d6kgcz rq0escxv nhd2j8a9 nc684nl6 p7hjln8o kvgmc6g5 cxmmr5t8 oygrvhab hcukyx3x jb3vyjys rz4wbd8a qt6c0cv9 a8nywdso i1ao9s8h esuyzwwr f1sip0of lzcic4wl q66pz984 gpro0wi8 b1v8xokw" href="https://www.facebook.com/falconcreekboutique/?__cft__[0]=AZX46mhqnf7WAw0xQRuL5811Qp4dZCjZw_X3CnqF3yLhJxAZgkDvpGgV7NqLfM_5gLzicn7S9VC_D63U3VoBTL6mtLjAnrQvRoS9Gwo8upUz7lUH76XDj9d-GtVuf7yy-6VHtYsXHFK442qAJhutN4uD&amp\;__tn__=kK-R" role="link" style="text-decoration-line: none\; font-family: Roboto\; font-size: 16px\; background-attachment: unset !important\;" tabindex="0">Falcon Creek Boutique</a><span style="font-family: Roboto\; font-size: 16px\;">\,&nbsp\;</span><a class="oajrlxb2 g5ia77u1 qu0x051f esr5mh6w e9989ue4 r7d6kgcz rq0escxv nhd2j8a9 nc684nl6 p7hjln8o kvgmc6g5 cxmmr5t8 oygrvhab hcukyx3x jb3vyjys rz4wbd8a qt6c0cv9 a8nywdso i1ao9s8h esuyzwwr f1sip0of lzcic4wl q66pz984 gpro0wi8 b1v8xokw" href="https://www.facebook.com/ammonogram/?__cft__[0]=AZX46mhqnf7WAw0xQRuL5811Qp4dZCjZw_X3CnqF3yLhJxAZgkDvpGgV7NqLfM_5gLzicn7S9VC_D63U3VoBTL6mtLjAnrQvRoS9Gwo8upUz7lUH76XDj9d-GtVuf7yy-6VHtYsXHFK442qAJhutN4uD&amp\;__tn__=kK-R" role="link" style="text-decoration-line: none\; font-family: Roboto\; font-size: 16px\; background-attachment: unset !important\;" tabindex="0">A+M Monogram</a><span style="font-family: Roboto\; font-size: 16px\;">&nbsp\;and&nbsp\;</span><a class="oajrlxb2 g5ia77u1 qu0x051f esr5mh6w e9989ue4 r7d6kgcz rq0escxv nhd2j8a9 nc684nl6 p7hjln8o kvgmc6g5 cxmmr5t8 oygrvhab hcukyx3x jb3vyjys rz4wbd8a qt6c0cv9 a8nywdso i1ao9s8h esuyzwwr f1sip0of lzcic4wl q66pz984 gpro0wi8 b1v8xokw" href="https://www.facebook.com/bespoke4570/?__cft__[0]=AZX46mhqnf7WAw0xQRuL5811Qp4dZCjZw_X3CnqF3yLhJxAZgkDvpGgV7NqLfM_5gLzicn7S9VC_D63U3VoBTL6mtLjAnrQvRoS9Gwo8upUz7lUH76XDj9d-GtVuf7yy-6VHtYsXHFK442qAJhutN4uD&amp\;__tn__=kK-R" role="link" style="text-decoration-line: none\; font-family: Roboto\; font-size: 16px\; background-attachment: unset !important\;" tabindex="0">45-70</a><span style="font-family: Roboto\; font-size: 16px\;">! The following food vendors will be there as well: Acai On My Mind\, The Shack\, and Family Man&#39\;s.&nbsp\;</span>
LOCATION:Sugg Street in downtown Madisonville KY\, 42431.
UID:e.1578.5266
SEQUENCE:3
DTSTAMP:20260424T065709Z
URL:https://business.hopkinscochamber.com/events/details/sippin-on-sugg-5266
END:VEVENT

END:VCALENDAR
