BEGIN:VCALENDAR
VERSION:2.0
PRODID:-//ChamberMaster//Event Calendar 2.0//EN
METHOD:PUBLISH
X-PUBLISHED-TTL:P3D
REFRESH-INTERVAL:P3D
CALSCALE:GREGORIAN
BEGIN:VEVENT
DTSTART;VALUE=DATE:20250321
DTEND;VALUE=DATE:20250323
TRANSP:TRANSPARENT
X-MICROSOFT-CDO-ALLDAYEVENT:TRUE
SUMMARY:Shop Madisonville - Spring Open House
DESCRIPTION:Join local retailers for a Spring Open House! Shops and details are below!\n\n\n\nA+M Monogram - 20% off total purchase.\n\nBuds & Bows - 20% off purchases of regular priced items\, and giveaways.\n\nCute as a Button Boutique - 15% off $25+\, 20% off $75+\, Gift Card giveaway.\n\nDivine Treasures Gifts & More - 35% off storewide.\n\nFalcon Creek Boutique - Spin the wheel\, 15-20% off\, 25-30% off 1 item\, first 25 customers get a free pen\, be entered to win a gift card when you make a purchase.\n\nGather at the Mark - Draw your discount\, 15-30% off\, spend $75 get a free Corkcicle.\n\nRosie Mill Boutique - 15% off puzzles and Garden Flags\, B2G1 free - regular soaps.\n\nWeeping Willow Gifts & Goods - 20% off purchase\, free gift with purchase for first 10 customers.
X-ALT-DESC;FMTTYPE=text/html:Join local retailers for a Spring Open House! Shops and details are below!<br />\n<br />\nA+M Monogram - 20% off total purchase.<br />\nBuds &amp\; Bows - 20% off purchases of regular priced items\, and giveaways.<br />\nCute as a Button Boutique - 15% off $25+\, 20% off $75+\, Gift Card giveaway.<br />\nDivine Treasures Gifts &amp\; More - 35% off storewide.<br />\nFalcon Creek Boutique - Spin the wheel\, 15-20% off\, 25-30% off 1 item\, first 25 customers get a free pen\, be entered to win a gift card when you make a purchase.<br />\nGather at the Mark - Draw your discount\, 15-30% off\, spend $75 get a free Corkcicle.<br />\nRosie Mill Boutique - 15% off puzzles and Garden Flags\, B2G1 free - regular soaps.<br />\nWeeping Willow Gifts &amp\; Goods - 20% off purchase\, free gift with purchase for first 10 customers.&nbsp\;
LOCATION:
UID:e.1578.6034
SEQUENCE:3
DTSTAMP:20260419T214934Z
URL:https://business.hopkinscochamber.com/events/details/shop-madisonville-spring-open-house-6034
END:VEVENT

END:VCALENDAR
