BEGIN:VCALENDAR
VERSION:2.0
PRODID:-//ChamberMaster//Event Calendar 2.0//EN
METHOD:PUBLISH
X-PUBLISHED-TTL:P3D
REFRESH-INTERVAL:P3D
CALSCALE:GREGORIAN
BEGIN:VEVENT
DTSTART:20220521T130000Z
DTEND:20220521T220000Z
X-MICROSOFT-CDO-ALLDAYEVENT:FALSE
SUMMARY:ServSafe Manager Course
DESCRIPTION:Upon successfully passing the exam\, participants will earn the ServSafe  Manager Certification. For food service providers\, this certification will satisfy the requirement by the Kentucky Department for Public Health and the 2013 FDA Food Code to have at least one employee who has supervisory and management responsibility and the authority to direct and control food preparation. Basic computer skills are required for the exam.
X-ALT-DESC;FMTTYPE=text/html:Upon successfully passing the exam\, participants will earn the ServSafe&reg\; Manager Certification. For food service providers\, this certification will satisfy the requirement by the Kentucky Department for Public Health and the 2013 FDA Food Code to have at least one employee who has supervisory and management responsibility and the authority to direct and control food preparation. Basic computer skills are required for the exam.
LOCATION:Murray State University
UID:e.1578.5904
SEQUENCE:3
DTSTAMP:20260423T204951Z
URL:https://business.hopkinscochamber.com/events/details/servsafe-manager-course-5904
END:VEVENT

END:VCALENDAR
