BEGIN:VCALENDAR
VERSION:2.0
PRODID:-//ChamberMaster//Event Calendar 2.0//EN
METHOD:PUBLISH
X-PUBLISHED-TTL:P3D
REFRESH-INTERVAL:P3D
CALSCALE:GREGORIAN
BEGIN:VEVENT
DTSTART;VALUE=DATE:20241128
DTEND;VALUE=DATE:20241129
TRANSP:TRANSPARENT
X-MICROSOFT-CDO-ALLDAYEVENT:TRUE
SUMMARY:Run for the Hungry
DESCRIPTION:Presented by First United Bank and Trust\, benefitting the Christian Food Bank of Hopkins County.
X-ALT-DESC;FMTTYPE=text/html:Presented by First United Bank and Trust\, benefitting the Christian Food Bank of Hopkins County.
LOCATION:Mahr Park Madisonville KY
UID:e.1578.6008
SEQUENCE:3
DTSTAMP:20260420T023729Z
URL:https://business.hopkinscochamber.com/events/details/run-for-the-hungry-6008
END:VEVENT

END:VCALENDAR
