BEGIN:VCALENDAR
VERSION:2.0
PRODID:-//ChamberMaster//Event Calendar 2.0//EN
METHOD:PUBLISH
X-PUBLISHED-TTL:P3D
REFRESH-INTERVAL:P3D
CALSCALE:GREGORIAN
BEGIN:VEVENT
DTSTART:20220519T163000Z
DTEND:20220519T170000Z
X-MICROSOFT-CDO-ALLDAYEVENT:FALSE
SUMMARY:Ribbon Cutting - Zippy Lube Express
DESCRIPTION:
X-ALT-DESC;FMTTYPE=text/html:
LOCATION:436 E. Center St. Madisonville KY 42431
UID:e.1578.5908
SEQUENCE:3
DTSTAMP:20260423T205140Z
URL:https://business.hopkinscochamber.com/events/details/ribbon-cutting-zippy-lube-express-5908
END:VEVENT

END:VCALENDAR
