BEGIN:VCALENDAR
VERSION:2.0
PRODID:-//ChamberMaster//Event Calendar 2.0//EN
METHOD:PUBLISH
X-PUBLISHED-TTL:P3D
REFRESH-INTERVAL:P3D
CALSCALE:GREGORIAN
BEGIN:VEVENT
DTSTART:20230523T163000Z
DTEND:20230523T170000Z
X-MICROSOFT-CDO-ALLDAYEVENT:FALSE
SUMMARY:Ribbon-Cutting- Tradewater Brewing
DESCRIPTION:Join us for the Ribbon-Cutting of Tradewater Brewing.
X-ALT-DESC;FMTTYPE=text/html:Join us for the Ribbon-Cutting of Tradewater Brewing.&nbsp\;
LOCATION:134 Dempsey St. Madisonville Ky 42431
UID:e.1578.5941
SEQUENCE:3
DTSTAMP:20260423T054656Z
URL:https://business.hopkinscochamber.com/events/details/ribbon-cutting-tradewater-brewing-5941
END:VEVENT

END:VCALENDAR
