BEGIN:VCALENDAR
VERSION:2.0
PRODID:-//ChamberMaster//Event Calendar 2.0//EN
METHOD:PUBLISH
X-PUBLISHED-TTL:P3D
REFRESH-INTERVAL:P3D
CALSCALE:GREGORIAN
BEGIN:VEVENT
DTSTART:20240523T163000Z
DTEND:20240523T170000Z
X-MICROSOFT-CDO-ALLDAYEVENT:FALSE
SUMMARY:Ribbon Cutting - The Weeping Willow
DESCRIPTION:Please join us for a ribbon-cutting ceremony for The Weeping Willow!
X-ALT-DESC;FMTTYPE=text/html:Please join us for a ribbon-cutting ceremony for The Weeping Willow!
LOCATION:31 N. Seminary St. Madisonville\, KY 42431
UID:e.1578.5996
SEQUENCE:3
DTSTAMP:20260422T112520Z
URL:https://business.hopkinscochamber.com/events/details/ribbon-cutting-the-weeping-willow-5996
END:VEVENT

END:VCALENDAR
