BEGIN:VCALENDAR
VERSION:2.0
PRODID:-//ChamberMaster//Event Calendar 2.0//EN
METHOD:PUBLISH
X-PUBLISHED-TTL:P3D
REFRESH-INTERVAL:P3D
CALSCALE:GREGORIAN
BEGIN:VEVENT
DTSTART:20220201T133000Z
DTEND:20220201T140000Z
X-MICROSOFT-CDO-ALLDAYEVENT:FALSE
SUMMARY:Ribbon Cutting - Simply Poured
DESCRIPTION:Join us for the Ribbon Cutting of Simply Poured!\n\nThe first 10 coffees will be free\, compliments of Independence Bank!
X-ALT-DESC;FMTTYPE=text/html:Join us for the Ribbon Cutting of Simply Poured!<br />\nThe first 10 coffees will be free\, compliments of Independence Bank!
LOCATION:190 Madison Square Drive Madisonville KY\, 42431
UID:e.1578.5649
SEQUENCE:3
DTSTAMP:20260424T005205Z
URL:https://business.hopkinscochamber.com/events/details/ribbon-cutting-simply-poured-5649
END:VEVENT

END:VCALENDAR
