BEGIN:VCALENDAR
VERSION:2.0
PRODID:-//ChamberMaster//Event Calendar 2.0//EN
METHOD:PUBLISH
X-PUBLISHED-TTL:P3D
REFRESH-INTERVAL:P3D
CALSCALE:GREGORIAN
BEGIN:VEVENT
DTSTART:20230606T163000Z
DTEND:20230606T170000Z
X-MICROSOFT-CDO-ALLDAYEVENT:FALSE
SUMMARY:Ribbon- Cutting - Shelby Tire
DESCRIPTION:Join us for the Ribbon-Cutting of Shelby Tire.
X-ALT-DESC;FMTTYPE=text/html:Join us for the Ribbon-Cutting of Shelby Tire.&nbsp\;
LOCATION:2581 Anton Road Madisonville KY 42431
UID:e.1578.5942
SEQUENCE:3
DTSTAMP:20260423T044355Z
URL:https://business.hopkinscochamber.com/events/details/ribbon-cutting-shelby-tire-5942
END:VEVENT

END:VCALENDAR
