BEGIN:VCALENDAR
VERSION:2.0
PRODID:-//ChamberMaster//Event Calendar 2.0//EN
METHOD:PUBLISH
X-PUBLISHED-TTL:P3D
REFRESH-INTERVAL:P3D
CALSCALE:GREGORIAN
BEGIN:VEVENT
DTSTART:20250611T160000Z
DTEND:20250611T163000Z
X-MICROSOFT-CDO-ALLDAYEVENT:FALSE
SUMMARY:Ribbon Cutting - Ruoff Mortgage
DESCRIPTION:Join us for the ribbon cutting of Ruoff Mortgage!
X-ALT-DESC;FMTTYPE=text/html:Join us for the ribbon cutting of Ruoff Mortgage!&nbsp\;
LOCATION:Chamber Office 15 E Center St Madisonville KY 42431
UID:e.1578.6043
SEQUENCE:3
DTSTAMP:20260419T155831Z
URL:https://business.hopkinscochamber.com/events/details/ribbon-cutting-ruoff-mortgage-6043
END:VEVENT

END:VCALENDAR
