BEGIN:VCALENDAR
VERSION:2.0
PRODID:-//ChamberMaster//Event Calendar 2.0//EN
METHOD:PUBLISH
X-PUBLISHED-TTL:P3D
REFRESH-INTERVAL:P3D
CALSCALE:GREGORIAN
BEGIN:VEVENT
DTSTART:20221122T210000Z
DTEND:20221122T220000Z
X-MICROSOFT-CDO-ALLDAYEVENT:FALSE
SUMMARY:Ribbon Cutting - Ruoff Mortgage
DESCRIPTION:Join us for the ribbon-cutting ceremony for Ruoff Mortgage!
X-ALT-DESC;FMTTYPE=text/html:Join us for the ribbon-cutting ceremony for Ruoff Mortgage!
LOCATION:843 Hanson St. Madisonville\, KY 42431 (Heritage Homes Real Estate)
UID:e.1578.5932
SEQUENCE:3
DTSTAMP:20260423T130146Z
URL:https://business.hopkinscochamber.com/events/details/ribbon-cutting-ruoff-mortgage-5932
END:VEVENT

END:VCALENDAR
