BEGIN:VCALENDAR
VERSION:2.0
PRODID:-//ChamberMaster//Event Calendar 2.0//EN
METHOD:PUBLISH
X-PUBLISHED-TTL:P3D
REFRESH-INTERVAL:P3D
CALSCALE:GREGORIAN
BEGIN:VEVENT
DTSTART:20221117T180000Z
DTEND:20221117T183000Z
X-MICROSOFT-CDO-ALLDAYEVENT:FALSE
SUMMARY:Ribbon Cutting - Practitioner Touch
DESCRIPTION:Join us for the ribbon-cutting ceremony for Practitioner Touch! Be sure to stay afterward for a tour of their new facility!
X-ALT-DESC;FMTTYPE=text/html:Join us for the ribbon-cutting ceremony for Practitioner Touch! Be sure to stay afterward for a tour of their new facility!&nbsp\;
LOCATION:243 E. Ayr Parkway Madisonville\, Ky 42431
UID:e.1578.5930
SEQUENCE:3
DTSTAMP:20260423T125948Z
URL:https://business.hopkinscochamber.com/events/details/ribbon-cutting-practitioner-touch-5930
END:VEVENT

END:VCALENDAR
