BEGIN:VCALENDAR
VERSION:2.0
PRODID:-//ChamberMaster//Event Calendar 2.0//EN
METHOD:PUBLISH
X-PUBLISHED-TTL:P3D
REFRESH-INTERVAL:P3D
CALSCALE:GREGORIAN
BEGIN:VEVENT
DTSTART:20250506T163000Z
DTEND:20250506T180000Z
X-MICROSOFT-CDO-ALLDAYEVENT:FALSE
SUMMARY:Ribbon Cutting - Phoenix Heating & Air
DESCRIPTION:After more than a decade of abandonment\, The Goldenrod Dairy facility has been brought back to life by Phoenix Heating & Air! Goldenrod Dairy was a fixture for Hopkins County for nearly a century. At Phoenix Heating & Air\, we hope to carry the historical flame of The Goldenrod to Hopkins County for decades to come. Please Join us Tuesday May 6th at 11:30am for the ribbon-cutting\, FREE BBQ plate lunch (while supplies last) and a tour of the revitalized Goldenrod facility. We will also be raffling off gift cards\, HVAC services & promotional items! If you are arriving late\, call or text Dusty at 270-635-7436 to reserve your plate. We can't wait to serve you and serve this community!
X-ALT-DESC;FMTTYPE=text/html:After more than a decade of abandonment\, The Goldenrod Dairy facility has been brought back to life by <strong>Phoenix Heating &amp\; Air</strong>! Goldenrod Dairy was a fixture for Hopkins County for nearly a century. At Phoenix Heating &amp\; Air\, we hope to carry the historical flame of The Goldenrod to Hopkins County for decades to come. <u>Please Join us Tuesday May 6th at 11:30am </u>for the ribbon-cutting\, FREE BBQ plate lunch (while supplies last) and a tour of the revitalized Goldenrod facility. We will also be raffling off gift cards\, HVAC services &amp\; promotional items! If you are arriving late\, call or text Dusty at 270-635-7436 to reserve your plate. We can&#39\;t wait to serve you and serve this community!&nbsp\;&nbsp\;
LOCATION:165 N Scott St Madisonville KY 42431
UID:e.1578.6038
SEQUENCE:3
DTSTAMP:20260419T172439Z
URL:https://business.hopkinscochamber.com/events/details/ribbon-cutting-phoenix-heating-air-6038
END:VEVENT

END:VCALENDAR
