BEGIN:VCALENDAR
VERSION:2.0
PRODID:-//ChamberMaster//Event Calendar 2.0//EN
METHOD:PUBLISH
X-PUBLISHED-TTL:P3D
REFRESH-INTERVAL:P3D
CALSCALE:GREGORIAN
BEGIN:VEVENT
DTSTART:20231026T220000Z
DTEND:20231027T000000Z
X-MICROSOFT-CDO-ALLDAYEVENT:FALSE
SUMMARY:Ribbon Cutting/ Open House- Edward Jones- Stephanie D. Townsell
DESCRIPTION:Please Join us for the Open House of  Edward Jones- Stephanie Townsell.
X-ALT-DESC;FMTTYPE=text/html:Please Join us for the Open House of&nbsp\; Edward Jones- Stephanie Townsell.&nbsp\;
LOCATION:32 S. Main St.
UID:e.1578.5975
SEQUENCE:3
DTSTAMP:20260423T011150Z
URL:https://business.hopkinscochamber.com/events/details/ribbon-cutting-open-house-edward-jones-stephanie-d-townsell-5975
END:VEVENT

END:VCALENDAR
