BEGIN:VCALENDAR
VERSION:2.0
PRODID:-//ChamberMaster//Event Calendar 2.0//EN
METHOD:PUBLISH
X-PUBLISHED-TTL:P3D
REFRESH-INTERVAL:P3D
CALSCALE:GREGORIAN
BEGIN:VEVENT
DTSTART:20230728T163000Z
DTEND:20230728T170000Z
X-MICROSOFT-CDO-ALLDAYEVENT:FALSE
SUMMARY:Ribbon Cutting- Maggie's Cakes and More
DESCRIPTION:Please Join us for the Ribbon Cutting of Maggie's Cakes and More!
X-ALT-DESC;FMTTYPE=text/html:Please Join us for the Ribbon Cutting of Maggie&#39\;s Cakes and More!&nbsp\;
LOCATION:39 S. Main St Madisonville Ky\, 42431
UID:e.1578.5963
SEQUENCE:3
DTSTAMP:20260423T043236Z
URL:https://business.hopkinscochamber.com/events/details/ribbon-cutting-maggie-s-cakes-and-more-5963
END:VEVENT

END:VCALENDAR
