BEGIN:VCALENDAR
VERSION:2.0
PRODID:-//ChamberMaster//Event Calendar 2.0//EN
METHOD:PUBLISH
X-PUBLISHED-TTL:P3D
REFRESH-INTERVAL:P3D
CALSCALE:GREGORIAN
BEGIN:VEVENT
DTSTART:20240530T170000Z
DTEND:20240530T173000Z
X-MICROSOFT-CDO-ALLDAYEVENT:FALSE
SUMMARY:Ribbon Cutting - MadCity Tanning & Boutique
DESCRIPTION:Please join us for a ribbon-cutting ceremony for MadCity Tanning & Boutique!
X-ALT-DESC;FMTTYPE=text/html:Please join us for a ribbon-cutting ceremony for MadCity Tanning &amp\; Boutique!
LOCATION:52 N. Franklin St. Madisonville\, KY 42431
UID:e.1578.5995
SEQUENCE:3
DTSTAMP:20260422T112705Z
URL:https://business.hopkinscochamber.com/events/details/ribbon-cutting-madcity-tanning-boutique-5995
END:VEVENT

END:VCALENDAR
