BEGIN:VCALENDAR
VERSION:2.0
PRODID:-//ChamberMaster//Event Calendar 2.0//EN
METHOD:PUBLISH
X-PUBLISHED-TTL:P3D
REFRESH-INTERVAL:P3D
CALSCALE:GREGORIAN
BEGIN:VEVENT
DTSTART:20250915T163000Z
DTEND:20250915T170000Z
X-MICROSOFT-CDO-ALLDAYEVENT:FALSE
SUMMARY:Ribbon Cutting - MadCity Scrubs
DESCRIPTION:Join us for a ribbon-cutting ceremony\, celebrating the new ownership of MadCity Scrubs!
X-ALT-DESC;FMTTYPE=text/html:Join us for a ribbon-cutting ceremony\, celebrating the new ownership of MadCity Scrubs!
LOCATION:200 E Arch St Madisonville KY 42431
UID:e.1578.9339
SEQUENCE:3
DTSTAMP:20260421T081702Z
URL:https://business.hopkinscochamber.com/events/details/ribbon-cutting-madcity-scrubs-9339
END:VEVENT

END:VCALENDAR
