BEGIN:VCALENDAR
VERSION:2.0
PRODID:-//ChamberMaster//Event Calendar 2.0//EN
METHOD:PUBLISH
X-PUBLISHED-TTL:P3D
REFRESH-INTERVAL:P3D
CALSCALE:GREGORIAN
BEGIN:VEVENT
DTSTART:20230522T163000Z
DTEND:20230522T170000Z
X-MICROSOFT-CDO-ALLDAYEVENT:FALSE
SUMMARY:Ribbon Cutting - MadCity Carpet Barn
DESCRIPTION:Please join us to celebrate the ribbon cutting of MadCity Carpet Barn!
X-ALT-DESC;FMTTYPE=text/html:Please join us to celebrate the ribbon cutting of MadCity Carpet Barn!
LOCATION:105 Dempsey St. Madisonville\, KY 42431
UID:e.1578.5952
SEQUENCE:3
DTSTAMP:20260423T054840Z
URL:https://business.hopkinscochamber.com/events/details/ribbon-cutting-madcity-carpet-barn-5952
END:VEVENT

END:VCALENDAR
