BEGIN:VCALENDAR
VERSION:2.0
PRODID:-//ChamberMaster//Event Calendar 2.0//EN
METHOD:PUBLISH
X-PUBLISHED-TTL:P3D
REFRESH-INTERVAL:P3D
CALSCALE:GREGORIAN
BEGIN:VEVENT
DTSTART:20240731T180000Z
DTEND:20240731T181500Z
X-MICROSOFT-CDO-ALLDAYEVENT:FALSE
SUMMARY:Ribbon Cutting - Hog Barn
DESCRIPTION:Join us for a ribbon-cutting ceremony to celebrate the new Hog Barn at the Hopkins County Fair Grounds!
X-ALT-DESC;FMTTYPE=text/html:Join us for a ribbon-cutting ceremony to celebrate the new Hog Barn at the Hopkins County Fair Grounds!&nbsp\;
LOCATION:605 E Arch St Madisonville KY 42431
UID:e.1578.5998
SEQUENCE:3
DTSTAMP:20260422T083637Z
URL:https://business.hopkinscochamber.com/events/details/ribbon-cutting-hog-barn-5998
END:VEVENT

END:VCALENDAR
