BEGIN:VCALENDAR
VERSION:2.0
PRODID:-//ChamberMaster//Event Calendar 2.0//EN
METHOD:PUBLISH
X-PUBLISHED-TTL:P3D
REFRESH-INTERVAL:P3D
CALSCALE:GREGORIAN
BEGIN:VEVENT
DTSTART:20211022T163000Z
DTEND:20211022T170000Z
X-MICROSOFT-CDO-ALLDAYEVENT:FALSE
SUMMARY:Ribbon Cutting - Historical Society of Hopkins County
DESCRIPTION:Join the Historical Society of Hopkins County at their ribbon cutting ceremony\, to unveil their new murals!
X-ALT-DESC;FMTTYPE=text/html:Join the Historical Society of Hopkins County at their ribbon cutting ceremony\, to unveil their new murals!&nbsp\;
LOCATION:The Historical Society of Hopkins County 107 Union Street\, Madisonville KY\, 42431
UID:e.1578.5271
SEQUENCE:3
DTSTAMP:20260424T060010Z
URL:https://business.hopkinscochamber.com/events/details/ribbon-cutting-historical-society-of-hopkins-county-5271
END:VEVENT

END:VCALENDAR
