BEGIN:VCALENDAR
VERSION:2.0
PRODID:-//ChamberMaster//Event Calendar 2.0//EN
METHOD:PUBLISH
X-PUBLISHED-TTL:P3D
REFRESH-INTERVAL:P3D
CALSCALE:GREGORIAN
BEGIN:VEVENT
DTSTART:20240725T163000Z
DTEND:20240725T170000Z
X-MICROSOFT-CDO-ALLDAYEVENT:FALSE
SUMMARY:Ribbon Cutting - Haven Realty
DESCRIPTION:Join us for a ribbon-cutting ceremony celebrating Haven Realty!
X-ALT-DESC;FMTTYPE=text/html:Join us for a ribbon-cutting ceremony celebrating Haven Realty!&nbsp\;
LOCATION:3435 Hanson Rd. Suite C Madisonville KY 42431
UID:e.1578.5997
SEQUENCE:3
DTSTAMP:20260422T083638Z
URL:https://business.hopkinscochamber.com/events/details/ribbon-cutting-haven-realty-5997
END:VEVENT

END:VCALENDAR
