BEGIN:VCALENDAR
VERSION:2.0
PRODID:-//ChamberMaster//Event Calendar 2.0//EN
METHOD:PUBLISH
X-PUBLISHED-TTL:P3D
REFRESH-INTERVAL:P3D
CALSCALE:GREGORIAN
BEGIN:VEVENT
DTSTART:20250321T160000Z
DTEND:20250321T163000Z
X-MICROSOFT-CDO-ALLDAYEVENT:FALSE
SUMMARY:Ribbon Cutting - Hairapy Lounge
DESCRIPTION:Please join us for a ribbon-cutting celebration at Hairapy Lounge!
X-ALT-DESC;FMTTYPE=text/html:Please join us for a ribbon-cutting celebration at Hairapy Lounge!
LOCATION:22 Maple Lane Madisonville KY
UID:e.1578.6029
SEQUENCE:3
DTSTAMP:20260419T204059Z
URL:https://business.hopkinscochamber.com/events/details/ribbon-cutting-hairapy-lounge-6029
END:VEVENT

END:VCALENDAR
