BEGIN:VCALENDAR
VERSION:2.0
PRODID:-//ChamberMaster//Event Calendar 2.0//EN
METHOD:PUBLISH
X-PUBLISHED-TTL:P3D
REFRESH-INTERVAL:P3D
CALSCALE:GREGORIAN
BEGIN:VEVENT
DTSTART:20220324T163000Z
DTEND:20220324T170000Z
X-MICROSOFT-CDO-ALLDAYEVENT:FALSE
SUMMARY:Ribbon Cutting - Habitat for Humanity Restore
DESCRIPTION:Join us for the ribbon cutting of Habitat for Humanity Restores NEW location!
X-ALT-DESC;FMTTYPE=text/html:Join us for the ribbon cutting of Habitat for Humanity Restores NEW location!
LOCATION:43 S. Daves St Madisonville\, KY 42431
UID:e.1578.5685
SEQUENCE:3
DTSTAMP:20260423T233511Z
URL:https://business.hopkinscochamber.com/events/details/ribbon-cutting-habitat-for-humanity-restore-5685
END:VEVENT

END:VCALENDAR
