BEGIN:VCALENDAR
VERSION:2.0
PRODID:-//ChamberMaster//Event Calendar 2.0//EN
METHOD:PUBLISH
X-PUBLISHED-TTL:P3D
REFRESH-INTERVAL:P3D
CALSCALE:GREGORIAN
BEGIN:VEVENT
DTSTART:20230801T163000Z
DTEND:20230801T170000Z
X-MICROSOFT-CDO-ALLDAYEVENT:FALSE
SUMMARY:Ribbon Cutting- Gather at the Mark
DESCRIPTION:Please join us for a Ribbon Cutting as we celebrate Crista's new location and name!
X-ALT-DESC;FMTTYPE=text/html:Please join us for a Ribbon Cutting as we celebrate Crista&#39\;s new location and name!
LOCATION:35 North Main St. Madisonville KY\, 42431
UID:e.1578.5962
SEQUENCE:3
DTSTAMP:20260423T022645Z
URL:https://business.hopkinscochamber.com/events/details/ribbon-cutting-gather-at-the-mark-5962
END:VEVENT

END:VCALENDAR
