BEGIN:VCALENDAR
VERSION:2.0
PRODID:-//ChamberMaster//Event Calendar 2.0//EN
METHOD:PUBLISH
X-PUBLISHED-TTL:P3D
REFRESH-INTERVAL:P3D
CALSCALE:GREGORIAN
BEGIN:VEVENT
DTSTART:20210515T211500Z
DTEND:20210515T214500Z
X-MICROSOFT-CDO-ALLDAYEVENT:FALSE
SUMMARY:Ribbon Cutting for Stellar Dance
DESCRIPTION:Ribbon Cutting\n\n"Under The Big Top"\n\nSpring Festival
X-ALT-DESC;FMTTYPE=text/html:Ribbon Cutting<br />\n&quot\;Under The Big Top&quot\;<br />\nSpring Festival&nbsp\;
LOCATION:Outside of the Mid Way Building Ballard Center Fair Grounds
UID:e.1578.5018
SEQUENCE:3
DTSTAMP:20260424T120213Z
URL:https://business.hopkinscochamber.com/events/details/ribbon-cutting-for-stellar-dance-5018
END:VEVENT

END:VCALENDAR
