BEGIN:VCALENDAR
VERSION:2.0
PRODID:-//ChamberMaster//Event Calendar 2.0//EN
METHOD:PUBLISH
X-PUBLISHED-TTL:P3D
REFRESH-INTERVAL:P3D
CALSCALE:GREGORIAN
BEGIN:VEVENT
DTSTART:20210102T160000Z
DTEND:20210102T163000Z
X-MICROSOFT-CDO-ALLDAYEVENT:FALSE
SUMMARY:Ribbon Cutting for Lilly Ann's in Hanson
DESCRIPTION:Ribbon Cutting
X-ALT-DESC;FMTTYPE=text/html:Ribbon Cutting
LOCATION:Lilly Ann's in Hanson - 25 Sunset Rd.
UID:e.1578.4377
SEQUENCE:3
DTSTAMP:20260424T171721Z
URL:https://business.hopkinscochamber.com/events/details/ribbon-cutting-for-lilly-ann-s-in-hanson-4377
END:VEVENT

END:VCALENDAR
